BEGIN:VCALENDAR
PRODID:-//WestMichiganBass//Web//EN
VERSION:2.0
METHOD:PUBLISH
BEGIN:VEVENT
DTSTART:20250601T110000Z
DTEND:20250601T110000Z
DTSTAMP:20260420T084039Z
UID:523fea40-560c-49b9-b668-383e4d281418
CREATED:20260420T084039Z
X-ALT-DESC;FMTTYPE=text/html:THE MERCURY SEASON KICKOFF EVENT
LAST-MODIFIED:20260420T084039Z
LOCATION:Charlevoix Municipal Launch

Located south of downtown Charlevoix.  Take Stover Rd east or Ferry Ave north off of M-66.
SEQUENCE:0
STATUS:CONFIRMED
SUMMARY:WMB Tournament: Lake Charlevoix (Municipal Launch)
TRANSP:OPAQUE
END:VEVENT
BEGIN:VEVENT
DTSTART:20250614T110000Z
DTEND:20250614T110000Z
DTSTAMP:20260420T084039Z
UID:d51e0fda-5fe3-468c-bb27-ef584d62f001
CREATED:20260420T084039Z
X-ALT-DESC;FMTTYPE=text/html:THE MINN KOTA GRAND RIVER RUMBLE
LAST-MODIFIED:20260420T084039Z
LOCATION:From US31 North bound exit right on Harbor Island Dr.  Take Harbor Island under expressway to Coho Dr West and North to launch

From US31 South bound exit right on Coho Dr and follow Coho Dr West and North to launch.
SEQUENCE:0
STATUS:CONFIRMED
SUMMARY:WMB Tournament: Grand River (Harbor Island - Grand Haven)
TRANSP:OPAQUE
END:VEVENT
BEGIN:VEVENT
DTSTART:20250615T110000Z
DTEND:20250615T110000Z
DTSTAMP:20260420T084039Z
UID:613c7d9c-8e01-426a-931f-9b2461260179
CREATED:20260420T084039Z
X-ALT-DESC;FMTTYPE=text/html:THE HUMMINBIRD HAWG HUNT
LAST-MODIFIED:20260420T084039Z
LOCATION:Fisherman's landing is located off of Ottawa street. Take business 31 to Marquete Ave - west on Ottawa and South to ramp.
SEQUENCE:0
STATUS:CONFIRMED
SUMMARY:WMB Tournament: Muskegon Lake (Fishermans Landing)
TRANSP:OPAQUE
END:VEVENT
BEGIN:VEVENT
DTSTART:20250713T110000Z
DTEND:20250713T110000Z
DTSTAMP:20260420T084039Z
UID:579ab04c-4c79-4b33-9d7c-047a44995843
CREATED:20260420T084039Z
X-ALT-DESC;FMTTYPE=text/html:THE NITRO BOATS SMALLMOUTH SLAM
LAST-MODIFIED:20260420T084039Z
LOCATION:
SEQUENCE:0
STATUS:CONFIRMED
SUMMARY:WMB Tournament: St Clair River - North Channel
TRANSP:OPAQUE
END:VEVENT
END:VCALENDAR
