BEGIN:VCALENDAR
PRODID:-//WestMichiganBass//Web//EN
VERSION:2.0
METHOD:PUBLISH
BEGIN:VEVENT
DTSTART:20260523T040000Z
DTEND:20260523T040000Z
DTSTAMP:20260422T082331Z
UID:711035dc-4834-4416-9440-f5a6107dbad0
CREATED:20260422T082331Z
X-ALT-DESC;FMTTYPE=text/html:Minn Kota / Humminbird Season Kickoff
LAST-MODIFIED:20260422T082331Z
LOCATION:From Grand Rapids

Take US 131 North to Exit 125 Jefferson Rd.  Travel West on Jefferson Rd, becomes S Croton Hardy Dr., Turn right E 40th St (road over the dam),  Turn North on S Elm Ave, Turn East on E 30th St, street ends at park.

6926 E 30th St
White Cloud, MI 49349
SEQUENCE:0
STATUS:CONFIRMED
SUMMARY:WMB Tournament: Hardy Dam Pond (Sandy Beach)
TRANSP:OPAQUE
END:VEVENT
BEGIN:VEVENT
DTSTART:20260620T040000Z
DTEND:20260620T040000Z
DTSTAMP:20260422T082331Z
UID:af899154-7414-426a-b747-3812c6cdc171
CREATED:20260422T082331Z
X-ALT-DESC;FMTTYPE=text/html:D and R Sports Center West Michigan Dual Weekend
LAST-MODIFIED:20260422T082331Z
LOCATION:Fisherman's landing is located off of Ottawa street. Take business 31 to Marquete Ave - west on Ottawa and South to ramp.
SEQUENCE:0
STATUS:CONFIRMED
SUMMARY:WMB Tournament: Muskegon Lake (Fishermans Landing)
TRANSP:OPAQUE
END:VEVENT
BEGIN:VEVENT
DTSTART:20260621T040000Z
DTEND:20260621T040000Z
DTSTAMP:20260422T082331Z
UID:42346bc9-e9dd-4a94-b5e7-3076e439c76e
CREATED:20260422T082331Z
X-ALT-DESC;FMTTYPE=text/html:D and R Sports Center West Michigan Dual Weekend
LAST-MODIFIED:20260422T082331Z
LOCATION:From US31 North bound exit right on Harbor Island Dr.  Take Harbor Island under expressway to Coho Dr West and North to launch

From US31 South bound exit right on Coho Dr and follow Coho Dr West and North to launch.
SEQUENCE:0
STATUS:CONFIRMED
SUMMARY:WMB Tournament: Grand River (Harbor Island - Grand Haven)
TRANSP:OPAQUE
END:VEVENT
BEGIN:VEVENT
DTSTART:20260725T040000Z
DTEND:20260725T040000Z
DTSTAMP:20260422T082331Z
UID:0a1bf857-0f92-4c1f-905f-2bd49e020bed
CREATED:20260422T082331Z
X-ALT-DESC;FMTTYPE=text/html:Saginaw Bay Beatdown
LAST-MODIFIED:20260422T082331Z
LOCATION:
SEQUENCE:0
STATUS:CONFIRMED
SUMMARY:WMB Tournament: Saginaw Bay River Mouth
TRANSP:OPAQUE
END:VEVENT
END:VCALENDAR
